BEGIN:VCALENDAR
VERSION:2.0
PRODID:-//ChamberMaster//Event Calendar 2.0//EN
METHOD:PUBLISH
X-PUBLISHED-TTL:P1H
REFRESH-INTERVAL:P1H
CALSCALE:GREGORIAN
BEGIN:VTIMEZONE
TZID:America/New_York
BEGIN:DAYLIGHT
RRULE:FREQ=YEARLY;BYMONTH=3;BYDAY=2SU
DTSTART:20070101T000000
TZOFFSETFROM:-0500
TZOFFSETTO:-0400
TZNAME:Eastern Daylight Time
END:DAYLIGHT
BEGIN:STANDARD
RRULE:FREQ=YEARLY;BYMONTH=11;BYDAY=1SU
DTSTART:20070101T000000
TZOFFSETFROM:-0400
TZOFFSETTO:-0500
TZNAME:Eastern Standard Time
END:STANDARD
END:VTIMEZONE
BEGIN:VEVENT
DTSTART;TZID=America/New_York:20260423T190000
DTEND;TZID=America/New_York:20260423T203000
X-MICROSOFT-CDO-ALLDAYEVENT:FALSE
SUMMARY:Volunteer Fair
DESCRIPTION:The Holmes Co. Historical Society and Killbuck Valley Historical Society are hosting a volunteer fair on April 23 from 7:00-8:30. This is a great opportunity to come and find out all the areas that the societies need volunteers. It will take place at the Castle Club Banquet Center next to the Victorian House Museum in Millersburg. You can become a museum docent\, serve on the many committee’s and more. Come and find out what it’s all about while you mix and mingle with society leaders and current volunteers. You can go to our website and see the detailed flyer at https://www.holmeshistory.com/events or call us at 330-674-0022. See you at the fair!
X-ALT-DESC;FMTTYPE=text/html:The Holmes Co. Historical Society and Killbuck Valley Historical Society are hosting a volunteer fair on April 23 from 7:00-8:30. This is a great opportunity to come and find out all the areas that the societies need volunteers. It will take place at the Castle Club Banquet Center next to the Victorian House Museum in Millersburg. You can become a museum docent\, serve on the many committee’s and more. Come and find out what it’s all about while you mix and mingle with society leaders and current volunteers. You can go to our website and see the detailed flyer at https://www.holmeshistory.com/events or call us at 330-674-0022. See you at the fair!
LOCATION:434 N. Washington St Millersburg OH 44654
UID:e.3803.1440754
SEQUENCE:3
DTSTAMP:20260424T034636Z
URL:https://business.holmescountychamber.com/hr-committee-events/Details/volunteer-fair-1705933?sourceTypeId=Hub
END:VEVENT
END:VCALENDAR
