BEGIN:VCALENDAR
VERSION:2.0
PRODID:-//ChamberMaster//Event Calendar 2.0//EN
METHOD:PUBLISH
X-PUBLISHED-TTL:P1H
REFRESH-INTERVAL:P1H
CALSCALE:GREGORIAN
BEGIN:VTIMEZONE
TZID:America/New_York
BEGIN:DAYLIGHT
RRULE:FREQ=YEARLY;BYMONTH=3;BYDAY=2SU
DTSTART:20070101T000000
TZOFFSETFROM:-0500
TZOFFSETTO:-0400
TZNAME:Eastern Daylight Time
END:DAYLIGHT
BEGIN:STANDARD
RRULE:FREQ=YEARLY;BYMONTH=11;BYDAY=1SU
DTSTART:20070101T000000
TZOFFSETFROM:-0400
TZOFFSETTO:-0500
TZNAME:Eastern Standard Time
END:STANDARD
END:VTIMEZONE
BEGIN:VEVENT
DTSTART;VALUE=DATE:20260606
DTEND;VALUE=DATE:20261004
TRANSP:TRANSPARENT
X-MICROSOFT-CDO-ALLDAYEVENT:TRUE
SUMMARY:Summer Concert Series @ The Amphitheater
DESCRIPTION:Enjoy summer nights in Millersburg at the Summer Concert Series! Join us the first Saturday of each month\, June through October from 6–8 PM\, for live music\, local food trucks\, and a fun\, welcoming community vibe at the Millersburg Amphitheater.
X-ALT-DESC;FMTTYPE=text/html:Enjoy summer nights in Millersburg at the Summer Concert Series! Join us the first Saturday of each month\, June through October from 6–8 PM\, for live music\, local food trucks\, and a fun\, welcoming community vibe at the Millersburg Amphitheater.
LOCATION:3102 Glen Drive Millersburg OH 44654
UID:e.3803.1445386
SEQUENCE:3
DTSTAMP:20260419T205711Z
URL:https://business.holmescountychamber.com/hr-committee-events/Details/summer-concert-series-the-amphitheater-1711984?sourceTypeId=Hub
END:VEVENT
END:VCALENDAR
